BEGIN:VCALENDAR
VERSION:2.0
PRODID:-//Elder Care - ECPv6.15.20//NONSGML v1.0//EN
CALSCALE:GREGORIAN
METHOD:PUBLISH
X-ORIGINAL-URL:https://abouteldercare.org
X-WR-CALDESC:Events for Elder Care
REFRESH-INTERVAL;VALUE=DURATION:PT1H
X-Robots-Tag:noindex
X-PUBLISHED-TTL:PT1H
BEGIN:VTIMEZONE
TZID:America/North_Dakota/Center
BEGIN:DAYLIGHT
TZOFFSETFROM:-0600
TZOFFSETTO:-0500
TZNAME:CDT
DTSTART:20250309T080000
END:DAYLIGHT
BEGIN:STANDARD
TZOFFSETFROM:-0500
TZOFFSETTO:-0600
TZNAME:CST
DTSTART:20251102T070000
END:STANDARD
BEGIN:DAYLIGHT
TZOFFSETFROM:-0600
TZOFFSETTO:-0500
TZNAME:CDT
DTSTART:20260308T080000
END:DAYLIGHT
BEGIN:STANDARD
TZOFFSETFROM:-0500
TZOFFSETTO:-0600
TZNAME:CST
DTSTART:20261101T070000
END:STANDARD
BEGIN:DAYLIGHT
TZOFFSETFROM:-0600
TZOFFSETTO:-0500
TZNAME:CDT
DTSTART:20270314T080000
END:DAYLIGHT
BEGIN:STANDARD
TZOFFSETFROM:-0500
TZOFFSETTO:-0600
TZNAME:CST
DTSTART:20271107T070000
END:STANDARD
BEGIN:DAYLIGHT
TZOFFSETFROM:-0600
TZOFFSETTO:-0500
TZNAME:CDT
DTSTART:20280312T080000
END:DAYLIGHT
BEGIN:STANDARD
TZOFFSETFROM:-0500
TZOFFSETTO:-0600
TZNAME:CST
DTSTART:20281105T070000
END:STANDARD
END:VTIMEZONE
BEGIN:VEVENT
DTSTART;TZID=America/North_Dakota/Center:20260928T090000
DTEND;TZID=America/North_Dakota/Center:20260928T100000
DTSTAMP:20260420T153524
CREATED:20260331T020739Z
LAST-MODIFIED:20260331T020739Z
UID:10000742-1790586000-1790589600@abouteldercare.org
SUMMARY:Beginner Line Dancing
DESCRIPTION:EC Active Center Class\n\nBeginner Line Dancing with Xandra\nLooking for a fun and engaging way to stay active? Our Basic Beginner Line Dancing Class at Elder Care! \nCall Elder Care to reserve your spot!\n918-336-8500\n$5 each class or join our new monthly “EC Active Center” membership $40 and enjoy all the ECAC classes between 8am-4pm each day.\n\n 
URL:https://abouteldercare.org/event/beginner-line-dancing-18/2026-09-28/
LOCATION:Elder Care\, 1223 Swan Drive\, Bartlesville\, OK\, 74006\, United States
END:VEVENT
BEGIN:VEVENT
DTSTART;TZID=America/North_Dakota/Center:20261001T173000
DTEND;TZID=America/North_Dakota/Center:20261001T190000
DTSTAMP:20260420T153524
CREATED:20260318T125118Z
LAST-MODIFIED:20260318T125118Z
UID:10000695-1790875800-1790881200@abouteldercare.org
SUMMARY:Dinner with Friends
DESCRIPTION:Dinner with Friends \nOctober 1 @ 5:30pm – 7:00pm | $15 per person | RSVP by September 28 \nJoin us for a Dinner with Friends featuring live music and a refreshing meal created by non other than Pam Beamguard. Enjoy a relaxed evening of good food\, uplifting tunes\, and great company as we welcome the season together in a warm\, social setting. \n\n\nTo reserve your seat\, CLICK HERE or call 918.336.8500.\n\nThis event is made possible through the support of The Koster Team at Keller Williams and Perspective Advisors.
URL:https://abouteldercare.org/event/dinner-with-friends-14/
LOCATION:OK
ORGANIZER;CN="Elder Care":MAILTO:info@AboutElderCare.org
END:VEVENT
BEGIN:VEVENT
DTSTART;TZID=America/North_Dakota/Center:20261005T090000
DTEND;TZID=America/North_Dakota/Center:20261005T100000
DTSTAMP:20260420T153524
CREATED:20260331T020739Z
LAST-MODIFIED:20260331T020739Z
UID:10000743-1791190800-1791194400@abouteldercare.org
SUMMARY:Beginner Line Dancing
DESCRIPTION:EC Active Center Class\n\nBeginner Line Dancing with Xandra\nLooking for a fun and engaging way to stay active? Our Basic Beginner Line Dancing Class at Elder Care! \nCall Elder Care to reserve your spot!\n918-336-8500\n$5 each class or join our new monthly “EC Active Center” membership $40 and enjoy all the ECAC classes between 8am-4pm each day.\n\n 
URL:https://abouteldercare.org/event/beginner-line-dancing-18/2026-10-05/
LOCATION:Elder Care\, 1223 Swan Drive\, Bartlesville\, OK\, 74006\, United States
END:VEVENT
BEGIN:VEVENT
DTSTART;TZID=America/North_Dakota/Center:20261005T131500
DTEND;TZID=America/North_Dakota/Center:20261005T141500
DTSTAMP:20260420T153524
CREATED:20251231T145301Z
LAST-MODIFIED:20251231T145301Z
UID:10000468-1791206100-1791209700@abouteldercare.org
SUMMARY:Parkinson’s Support Group
DESCRIPTION:Join us for a FREE monthly Parkinson’s Support Group at Elder Care\, held on the first Monday of each month at 1:15 PM. This welcoming group offers education\, encouragement\, and connection for individuals with Parkinson’s and their care partners. \nEach session features helpful resources\, guest speakers\, and time to share experiences in a supportive setting. \nFor more information\, call 918-336-8500.
URL:https://abouteldercare.org/event/parkinsons-support-group-17/
LOCATION:Elder Care\, 1223 Swan Drive\, Bartlesville\, OK\, 74006\, United States
ORGANIZER;CN="Elder Care":MAILTO:info@AboutElderCare.org
END:VEVENT
BEGIN:VEVENT
DTSTART;TZID=America/North_Dakota/Center:20261012T090000
DTEND;TZID=America/North_Dakota/Center:20261012T100000
DTSTAMP:20260420T153524
CREATED:20260331T020739Z
LAST-MODIFIED:20260331T020739Z
UID:10000744-1791795600-1791799200@abouteldercare.org
SUMMARY:Beginner Line Dancing
DESCRIPTION:EC Active Center Class\n\nBeginner Line Dancing with Xandra\nLooking for a fun and engaging way to stay active? Our Basic Beginner Line Dancing Class at Elder Care! \nCall Elder Care to reserve your spot!\n918-336-8500\n$5 each class or join our new monthly “EC Active Center” membership $40 and enjoy all the ECAC classes between 8am-4pm each day.\n\n 
URL:https://abouteldercare.org/event/beginner-line-dancing-18/2026-10-12/
LOCATION:Elder Care\, 1223 Swan Drive\, Bartlesville\, OK\, 74006\, United States
END:VEVENT
BEGIN:VEVENT
DTSTART;TZID=America/North_Dakota/Center:20261016T100000
DTEND;TZID=America/North_Dakota/Center:20261016T120000
DTSTAMP:20260420T153524
CREATED:20260128T134900Z
LAST-MODIFIED:20260128T134900Z
UID:10000590-1792144800-1792152000@abouteldercare.org
SUMMARY:Cooking & Crafting
DESCRIPTION:EC Active Center Class\n“Cooking & Crafting”class is sponsored by HOME INSTEAD and will be the 3rd Friday of each month from 10am-12pm. Come join in the excitement as we bring different Cooking/Baking/Crafting ideas each month. \n\n\nCall Elder Care to reserve your spot!\n\n\n918-336-8500\n\n\n$5 each class or join our new monthly “EC Active Center” membership $40 and enjoy all the ECAC classes between 8am-4pm each day.
URL:https://abouteldercare.org/event/cooking-crafting-10/
LOCATION:OK
END:VEVENT
BEGIN:VEVENT
DTSTART;TZID=America/North_Dakota/Center:20261019T090000
DTEND;TZID=America/North_Dakota/Center:20261019T100000
DTSTAMP:20260420T153524
CREATED:20260331T020739Z
LAST-MODIFIED:20260331T020739Z
UID:10000745-1792400400-1792404000@abouteldercare.org
SUMMARY:Beginner Line Dancing
DESCRIPTION:EC Active Center Class\n\nBeginner Line Dancing with Xandra\nLooking for a fun and engaging way to stay active? Our Basic Beginner Line Dancing Class at Elder Care! \nCall Elder Care to reserve your spot!\n918-336-8500\n$5 each class or join our new monthly “EC Active Center” membership $40 and enjoy all the ECAC classes between 8am-4pm each day.\n\n 
URL:https://abouteldercare.org/event/beginner-line-dancing-18/2026-10-19/
LOCATION:Elder Care\, 1223 Swan Drive\, Bartlesville\, OK\, 74006\, United States
END:VEVENT
BEGIN:VEVENT
DTSTART;TZID=America/North_Dakota/Center:20261026T090000
DTEND;TZID=America/North_Dakota/Center:20261026T100000
DTSTAMP:20260420T153524
CREATED:20260331T020739Z
LAST-MODIFIED:20260331T020739Z
UID:10000746-1793005200-1793008800@abouteldercare.org
SUMMARY:Beginner Line Dancing
DESCRIPTION:EC Active Center Class\n\nBeginner Line Dancing with Xandra\nLooking for a fun and engaging way to stay active? Our Basic Beginner Line Dancing Class at Elder Care! \nCall Elder Care to reserve your spot!\n918-336-8500\n$5 each class or join our new monthly “EC Active Center” membership $40 and enjoy all the ECAC classes between 8am-4pm each day.\n\n 
URL:https://abouteldercare.org/event/beginner-line-dancing-18/2026-10-26/
LOCATION:Elder Care\, 1223 Swan Drive\, Bartlesville\, OK\, 74006\, United States
END:VEVENT
BEGIN:VEVENT
DTSTART;TZID=America/North_Dakota/Center:20261102T090000
DTEND;TZID=America/North_Dakota/Center:20261102T100000
DTSTAMP:20260420T153524
CREATED:20260331T020739Z
LAST-MODIFIED:20260331T020739Z
UID:10000747-1793610000-1793613600@abouteldercare.org
SUMMARY:Beginner Line Dancing
DESCRIPTION:EC Active Center Class\n\nBeginner Line Dancing with Xandra\nLooking for a fun and engaging way to stay active? Our Basic Beginner Line Dancing Class at Elder Care! \nCall Elder Care to reserve your spot!\n918-336-8500\n$5 each class or join our new monthly “EC Active Center” membership $40 and enjoy all the ECAC classes between 8am-4pm each day.\n\n 
URL:https://abouteldercare.org/event/beginner-line-dancing-18/2026-11-02/
LOCATION:Elder Care\, 1223 Swan Drive\, Bartlesville\, OK\, 74006\, United States
END:VEVENT
BEGIN:VEVENT
DTSTART;TZID=America/North_Dakota/Center:20261102T131500
DTEND;TZID=America/North_Dakota/Center:20261102T141500
DTSTAMP:20260420T153524
CREATED:20251231T145325Z
LAST-MODIFIED:20251231T145325Z
UID:10000469-1793625300-1793628900@abouteldercare.org
SUMMARY:Parkinson’s Support Group
DESCRIPTION:Join us for a FREE monthly Parkinson’s Support Group at Elder Care\, held on the first Monday of each month at 1:15 PM. This welcoming group offers education\, encouragement\, and connection for individuals with Parkinson’s and their care partners. \nEach session features helpful resources\, guest speakers\, and time to share experiences in a supportive setting. \nFor more information\, call 918-336-8500.
URL:https://abouteldercare.org/event/parkinsons-support-group-18/
LOCATION:Elder Care\, 1223 Swan Drive\, Bartlesville\, OK\, 74006\, United States
ORGANIZER;CN="Elder Care":MAILTO:info@AboutElderCare.org
END:VEVENT
BEGIN:VEVENT
DTSTART;TZID=America/North_Dakota/Center:20261105T173000
DTEND;TZID=America/North_Dakota/Center:20261105T190000
DTSTAMP:20260420T153525
CREATED:20260318T125425Z
LAST-MODIFIED:20260318T125425Z
UID:10000696-1793899800-1793905200@abouteldercare.org
SUMMARY:Dinner with Friends
DESCRIPTION:Dinner with Friends \nNovember 5 @ 5:30pm – 7:00pm | $15 per person | RSVP by November 2 \nJoin us for a Dinner with Friends featuring live music and a refreshing meal created by non other than Pam Beamguard. Enjoy a relaxed evening of good food\, uplifting tunes\, and great company as we welcome the season together in a warm\, social setting. \n\n\nTo reserve your seat\, CLICK HERE or call 918.336.8500.\n\nThis event is made possible through the support of The Koster Team at Keller Williams and Perspective Advisors.
URL:https://abouteldercare.org/event/dinner-with-friends-15/
LOCATION:OK
ORGANIZER;CN="Elder Care":MAILTO:info@AboutElderCare.org
END:VEVENT
BEGIN:VEVENT
DTSTART;TZID=America/North_Dakota/Center:20261106T100000
DTEND;TZID=America/North_Dakota/Center:20261106T120000
DTSTAMP:20260420T153525
CREATED:20260128T132504Z
LAST-MODIFIED:20260128T132504Z
UID:10000579-1793959200-1793966400@abouteldercare.org
SUMMARY:Card Making Class
DESCRIPTION:We are pleased to introduce a new monthly offering at Elder Care’s Active Center: Card Making Class\, led by Paula. This creative\, hands-on class provides an opportunity to learn card-making techniques while enjoying a relaxed and social environment. \nWhen: First Friday of every monthTime: 10:00 AM – 12:00 PMCost: $5 for non-members (included with Active Center membership) \nThis class is open to all skill levels and is a wonderful way to express creativity\, connect with others\, and create thoughtful handmade cards for any occasion. \nWe invite you to join us and be part of this new monthly tradition at the Active Center.
URL:https://abouteldercare.org/event/card-making-class-10/
LOCATION:OK
END:VEVENT
BEGIN:VEVENT
DTSTART;TZID=America/North_Dakota/Center:20261109T090000
DTEND;TZID=America/North_Dakota/Center:20261109T100000
DTSTAMP:20260420T153525
CREATED:20260331T020739Z
LAST-MODIFIED:20260331T020739Z
UID:10000748-1794214800-1794218400@abouteldercare.org
SUMMARY:Beginner Line Dancing
DESCRIPTION:EC Active Center Class\n\nBeginner Line Dancing with Xandra\nLooking for a fun and engaging way to stay active? Our Basic Beginner Line Dancing Class at Elder Care! \nCall Elder Care to reserve your spot!\n918-336-8500\n$5 each class or join our new monthly “EC Active Center” membership $40 and enjoy all the ECAC classes between 8am-4pm each day.\n\n 
URL:https://abouteldercare.org/event/beginner-line-dancing-18/2026-11-09/
LOCATION:Elder Care\, 1223 Swan Drive\, Bartlesville\, OK\, 74006\, United States
END:VEVENT
BEGIN:VEVENT
DTSTART;TZID=America/North_Dakota/Center:20261116T090000
DTEND;TZID=America/North_Dakota/Center:20261116T100000
DTSTAMP:20260420T153525
CREATED:20260331T020739Z
LAST-MODIFIED:20260331T020739Z
UID:10000749-1794819600-1794823200@abouteldercare.org
SUMMARY:Beginner Line Dancing
DESCRIPTION:EC Active Center Class\n\nBeginner Line Dancing with Xandra\nLooking for a fun and engaging way to stay active? Our Basic Beginner Line Dancing Class at Elder Care! \nCall Elder Care to reserve your spot!\n918-336-8500\n$5 each class or join our new monthly “EC Active Center” membership $40 and enjoy all the ECAC classes between 8am-4pm each day.\n\n 
URL:https://abouteldercare.org/event/beginner-line-dancing-18/2026-11-16/
LOCATION:Elder Care\, 1223 Swan Drive\, Bartlesville\, OK\, 74006\, United States
END:VEVENT
BEGIN:VEVENT
DTSTART;TZID=America/North_Dakota/Center:20261120T100000
DTEND;TZID=America/North_Dakota/Center:20261120T120000
DTSTAMP:20260420T153525
CREATED:20260128T134935Z
LAST-MODIFIED:20260128T134935Z
UID:10000591-1795168800-1795176000@abouteldercare.org
SUMMARY:Cooking & Crafting
DESCRIPTION:EC Active Center Class\n“Cooking & Crafting”class is sponsored by HOME INSTEAD and will be the 3rd Friday of each month from 10am-12pm. Come join in the excitement as we bring different Cooking/Baking/Crafting ideas each month. \n\n\nCall Elder Care to reserve your spot!\n\n\n918-336-8500\n\n\n$5 each class or join our new monthly “EC Active Center” membership $40 and enjoy all the ECAC classes between 8am-4pm each day.
URL:https://abouteldercare.org/event/cooking-crafting-11/
LOCATION:OK
END:VEVENT
BEGIN:VEVENT
DTSTART;TZID=America/North_Dakota/Center:20261123T090000
DTEND;TZID=America/North_Dakota/Center:20261123T100000
DTSTAMP:20260420T153525
CREATED:20260331T020739Z
LAST-MODIFIED:20260331T020739Z
UID:10000750-1795424400-1795428000@abouteldercare.org
SUMMARY:Beginner Line Dancing
DESCRIPTION:EC Active Center Class\n\nBeginner Line Dancing with Xandra\nLooking for a fun and engaging way to stay active? Our Basic Beginner Line Dancing Class at Elder Care! \nCall Elder Care to reserve your spot!\n918-336-8500\n$5 each class or join our new monthly “EC Active Center” membership $40 and enjoy all the ECAC classes between 8am-4pm each day.\n\n 
URL:https://abouteldercare.org/event/beginner-line-dancing-18/2026-11-23/
LOCATION:Elder Care\, 1223 Swan Drive\, Bartlesville\, OK\, 74006\, United States
END:VEVENT
BEGIN:VEVENT
DTSTART;TZID=America/North_Dakota/Center:20261130T090000
DTEND;TZID=America/North_Dakota/Center:20261130T100000
DTSTAMP:20260420T153525
CREATED:20260331T020739Z
LAST-MODIFIED:20260331T020739Z
UID:10000751-1796029200-1796032800@abouteldercare.org
SUMMARY:Beginner Line Dancing
DESCRIPTION:EC Active Center Class\n\nBeginner Line Dancing with Xandra\nLooking for a fun and engaging way to stay active? Our Basic Beginner Line Dancing Class at Elder Care! \nCall Elder Care to reserve your spot!\n918-336-8500\n$5 each class or join our new monthly “EC Active Center” membership $40 and enjoy all the ECAC classes between 8am-4pm each day.\n\n 
URL:https://abouteldercare.org/event/beginner-line-dancing-18/2026-11-30/
LOCATION:Elder Care\, 1223 Swan Drive\, Bartlesville\, OK\, 74006\, United States
END:VEVENT
BEGIN:VEVENT
DTSTART;TZID=America/North_Dakota/Center:20261203T173000
DTEND;TZID=America/North_Dakota/Center:20261203T190000
DTSTAMP:20260420T153525
CREATED:20260318T125818Z
LAST-MODIFIED:20260318T125818Z
UID:10000697-1796319000-1796324400@abouteldercare.org
SUMMARY:Dinner with Friends
DESCRIPTION:Dinner with Friends \nDecember 3 @ 5:30pm – 7:00pm | $15 per person | RSVP by November 27 \nJoin us for a Dinner with Friends featuring live music and a refreshing meal created by non other than Pam Beamguard. Enjoy a relaxed evening of good food\, uplifting tunes\, and great company as we welcome the season together in a warm\, social setting. \n\n\nTo reserve your seat\, CLICK HERE or call 918.336.8500.\n\nThis event is made possible through the support of The Koster Team at Keller Williams and Perspective Advisors.
URL:https://abouteldercare.org/event/dinner-with-friends-16/
LOCATION:OK
ORGANIZER;CN="Elder Care":MAILTO:info@AboutElderCare.org
END:VEVENT
BEGIN:VEVENT
DTSTART;TZID=America/North_Dakota/Center:20261207T090000
DTEND;TZID=America/North_Dakota/Center:20261207T100000
DTSTAMP:20260420T153525
CREATED:20260331T020739Z
LAST-MODIFIED:20260331T020739Z
UID:10000752-1796634000-1796637600@abouteldercare.org
SUMMARY:Beginner Line Dancing
DESCRIPTION:EC Active Center Class\n\nBeginner Line Dancing with Xandra\nLooking for a fun and engaging way to stay active? Our Basic Beginner Line Dancing Class at Elder Care! \nCall Elder Care to reserve your spot!\n918-336-8500\n$5 each class or join our new monthly “EC Active Center” membership $40 and enjoy all the ECAC classes between 8am-4pm each day.\n\n 
URL:https://abouteldercare.org/event/beginner-line-dancing-18/2026-12-07/
LOCATION:Elder Care\, 1223 Swan Drive\, Bartlesville\, OK\, 74006\, United States
END:VEVENT
BEGIN:VEVENT
DTSTART;TZID=America/North_Dakota/Center:20261207T131500
DTEND;TZID=America/North_Dakota/Center:20261207T141500
DTSTAMP:20260420T153525
CREATED:20251231T145350Z
LAST-MODIFIED:20251231T145350Z
UID:10000470-1796649300-1796652900@abouteldercare.org
SUMMARY:Parkinson’s Support Group
DESCRIPTION:Join us for a FREE monthly Parkinson’s Support Group at Elder Care\, held on the first Monday of each month at 1:15 PM. This welcoming group offers education\, encouragement\, and connection for individuals with Parkinson’s and their care partners. \nEach session features helpful resources\, guest speakers\, and time to share experiences in a supportive setting. \nFor more information\, call 918-336-8500.
URL:https://abouteldercare.org/event/parkinsons-support-group-19/
LOCATION:Elder Care\, 1223 Swan Drive\, Bartlesville\, OK\, 74006\, United States
ORGANIZER;CN="Elder Care":MAILTO:info@AboutElderCare.org
END:VEVENT
BEGIN:VEVENT
DTSTART;TZID=America/North_Dakota/Center:20261214T090000
DTEND;TZID=America/North_Dakota/Center:20261214T100000
DTSTAMP:20260420T153525
CREATED:20260331T020739Z
LAST-MODIFIED:20260331T020739Z
UID:10000753-1797238800-1797242400@abouteldercare.org
SUMMARY:Beginner Line Dancing
DESCRIPTION:EC Active Center Class\n\nBeginner Line Dancing with Xandra\nLooking for a fun and engaging way to stay active? Our Basic Beginner Line Dancing Class at Elder Care! \nCall Elder Care to reserve your spot!\n918-336-8500\n$5 each class or join our new monthly “EC Active Center” membership $40 and enjoy all the ECAC classes between 8am-4pm each day.\n\n 
URL:https://abouteldercare.org/event/beginner-line-dancing-18/2026-12-14/
LOCATION:Elder Care\, 1223 Swan Drive\, Bartlesville\, OK\, 74006\, United States
END:VEVENT
BEGIN:VEVENT
DTSTART;TZID=America/North_Dakota/Center:20261218T100000
DTEND;TZID=America/North_Dakota/Center:20261218T120000
DTSTAMP:20260420T153525
CREATED:20260128T135033Z
LAST-MODIFIED:20260128T135033Z
UID:10000592-1797588000-1797595200@abouteldercare.org
SUMMARY:Cooking & Crafting
DESCRIPTION:EC Active Center Class\n“Cooking & Crafting”class is sponsored by HOME INSTEAD and will be the 3rd Friday of each month from 10am-12pm. Come join in the excitement as we bring different Cooking/Baking/Crafting ideas each month. \n\n\nCall Elder Care to reserve your spot!\n\n\n918-336-8500\n\n\n$5 each class or join our new monthly “EC Active Center” membership $40 and enjoy all the ECAC classes between 8am-4pm each day.
URL:https://abouteldercare.org/event/cooking-crafting-12/
LOCATION:OK
END:VEVENT
BEGIN:VEVENT
DTSTART;TZID=America/North_Dakota/Center:20261221T090000
DTEND;TZID=America/North_Dakota/Center:20261221T100000
DTSTAMP:20260420T153525
CREATED:20260331T020739Z
LAST-MODIFIED:20260331T020739Z
UID:10000754-1797843600-1797847200@abouteldercare.org
SUMMARY:Beginner Line Dancing
DESCRIPTION:EC Active Center Class\n\nBeginner Line Dancing with Xandra\nLooking for a fun and engaging way to stay active? Our Basic Beginner Line Dancing Class at Elder Care! \nCall Elder Care to reserve your spot!\n918-336-8500\n$5 each class or join our new monthly “EC Active Center” membership $40 and enjoy all the ECAC classes between 8am-4pm each day.\n\n 
URL:https://abouteldercare.org/event/beginner-line-dancing-18/2026-12-21/
LOCATION:Elder Care\, 1223 Swan Drive\, Bartlesville\, OK\, 74006\, United States
END:VEVENT
BEGIN:VEVENT
DTSTART;TZID=America/North_Dakota/Center:20261228T090000
DTEND;TZID=America/North_Dakota/Center:20261228T100000
DTSTAMP:20260420T153525
CREATED:20260331T020739Z
LAST-MODIFIED:20260331T020739Z
UID:10000755-1798448400-1798452000@abouteldercare.org
SUMMARY:Beginner Line Dancing
DESCRIPTION:EC Active Center Class\n\nBeginner Line Dancing with Xandra\nLooking for a fun and engaging way to stay active? Our Basic Beginner Line Dancing Class at Elder Care! \nCall Elder Care to reserve your spot!\n918-336-8500\n$5 each class or join our new monthly “EC Active Center” membership $40 and enjoy all the ECAC classes between 8am-4pm each day.\n\n 
URL:https://abouteldercare.org/event/beginner-line-dancing-18/2026-12-28/
LOCATION:Elder Care\, 1223 Swan Drive\, Bartlesville\, OK\, 74006\, United States
END:VEVENT
BEGIN:VEVENT
DTSTART;TZID=America/North_Dakota/Center:20270104T090000
DTEND;TZID=America/North_Dakota/Center:20270104T100000
DTSTAMP:20260420T153525
CREATED:20260331T020739Z
LAST-MODIFIED:20260331T020739Z
UID:10000756-1799053200-1799056800@abouteldercare.org
SUMMARY:Beginner Line Dancing
DESCRIPTION:EC Active Center Class\n\nBeginner Line Dancing with Xandra\nLooking for a fun and engaging way to stay active? Our Basic Beginner Line Dancing Class at Elder Care! \nCall Elder Care to reserve your spot!\n918-336-8500\n$5 each class or join our new monthly “EC Active Center” membership $40 and enjoy all the ECAC classes between 8am-4pm each day.\n\n 
URL:https://abouteldercare.org/event/beginner-line-dancing-18/2027-01-04/
LOCATION:Elder Care\, 1223 Swan Drive\, Bartlesville\, OK\, 74006\, United States
END:VEVENT
BEGIN:VEVENT
DTSTART;TZID=America/North_Dakota/Center:20270111T090000
DTEND;TZID=America/North_Dakota/Center:20270111T100000
DTSTAMP:20260420T153525
CREATED:20260331T020739Z
LAST-MODIFIED:20260331T020739Z
UID:10000757-1799658000-1799661600@abouteldercare.org
SUMMARY:Beginner Line Dancing
DESCRIPTION:EC Active Center Class\n\nBeginner Line Dancing with Xandra\nLooking for a fun and engaging way to stay active? Our Basic Beginner Line Dancing Class at Elder Care! \nCall Elder Care to reserve your spot!\n918-336-8500\n$5 each class or join our new monthly “EC Active Center” membership $40 and enjoy all the ECAC classes between 8am-4pm each day.\n\n 
URL:https://abouteldercare.org/event/beginner-line-dancing-18/2027-01-11/
LOCATION:Elder Care\, 1223 Swan Drive\, Bartlesville\, OK\, 74006\, United States
END:VEVENT
BEGIN:VEVENT
DTSTART;TZID=America/North_Dakota/Center:20270118T090000
DTEND;TZID=America/North_Dakota/Center:20270118T100000
DTSTAMP:20260420T153525
CREATED:20260331T020739Z
LAST-MODIFIED:20260331T020739Z
UID:10000758-1800262800-1800266400@abouteldercare.org
SUMMARY:Beginner Line Dancing
DESCRIPTION:EC Active Center Class\n\nBeginner Line Dancing with Xandra\nLooking for a fun and engaging way to stay active? Our Basic Beginner Line Dancing Class at Elder Care! \nCall Elder Care to reserve your spot!\n918-336-8500\n$5 each class or join our new monthly “EC Active Center” membership $40 and enjoy all the ECAC classes between 8am-4pm each day.\n\n 
URL:https://abouteldercare.org/event/beginner-line-dancing-18/2027-01-18/
LOCATION:Elder Care\, 1223 Swan Drive\, Bartlesville\, OK\, 74006\, United States
END:VEVENT
BEGIN:VEVENT
DTSTART;TZID=America/North_Dakota/Center:20270125T090000
DTEND;TZID=America/North_Dakota/Center:20270125T100000
DTSTAMP:20260420T153525
CREATED:20260331T020739Z
LAST-MODIFIED:20260331T020739Z
UID:10000759-1800867600-1800871200@abouteldercare.org
SUMMARY:Beginner Line Dancing
DESCRIPTION:EC Active Center Class\n\nBeginner Line Dancing with Xandra\nLooking for a fun and engaging way to stay active? Our Basic Beginner Line Dancing Class at Elder Care! \nCall Elder Care to reserve your spot!\n918-336-8500\n$5 each class or join our new monthly “EC Active Center” membership $40 and enjoy all the ECAC classes between 8am-4pm each day.\n\n 
URL:https://abouteldercare.org/event/beginner-line-dancing-18/2027-01-25/
LOCATION:Elder Care\, 1223 Swan Drive\, Bartlesville\, OK\, 74006\, United States
END:VEVENT
BEGIN:VEVENT
DTSTART;TZID=America/North_Dakota/Center:20270201T090000
DTEND;TZID=America/North_Dakota/Center:20270201T100000
DTSTAMP:20260420T153525
CREATED:20260331T020739Z
LAST-MODIFIED:20260331T020739Z
UID:10000760-1801472400-1801476000@abouteldercare.org
SUMMARY:Beginner Line Dancing
DESCRIPTION:EC Active Center Class\n\nBeginner Line Dancing with Xandra\nLooking for a fun and engaging way to stay active? Our Basic Beginner Line Dancing Class at Elder Care! \nCall Elder Care to reserve your spot!\n918-336-8500\n$5 each class or join our new monthly “EC Active Center” membership $40 and enjoy all the ECAC classes between 8am-4pm each day.\n\n 
URL:https://abouteldercare.org/event/beginner-line-dancing-18/2027-02-01/
LOCATION:Elder Care\, 1223 Swan Drive\, Bartlesville\, OK\, 74006\, United States
END:VEVENT
BEGIN:VEVENT
DTSTART;TZID=America/North_Dakota/Center:20270208T090000
DTEND;TZID=America/North_Dakota/Center:20270208T100000
DTSTAMP:20260420T153525
CREATED:20260331T020739Z
LAST-MODIFIED:20260331T020739Z
UID:10000761-1802077200-1802080800@abouteldercare.org
SUMMARY:Beginner Line Dancing
DESCRIPTION:EC Active Center Class\n\nBeginner Line Dancing with Xandra\nLooking for a fun and engaging way to stay active? Our Basic Beginner Line Dancing Class at Elder Care! \nCall Elder Care to reserve your spot!\n918-336-8500\n$5 each class or join our new monthly “EC Active Center” membership $40 and enjoy all the ECAC classes between 8am-4pm each day.\n\n 
URL:https://abouteldercare.org/event/beginner-line-dancing-18/2027-02-08/
LOCATION:Elder Care\, 1223 Swan Drive\, Bartlesville\, OK\, 74006\, United States
END:VEVENT
END:VCALENDAR