BEGIN:VCALENDAR
VERSION:2.0
PRODID:-//Elder Care - ECPv6.15.20//NONSGML v1.0//EN
CALSCALE:GREGORIAN
METHOD:PUBLISH
X-WR-CALNAME:Elder Care
X-ORIGINAL-URL:https://abouteldercare.org
X-WR-CALDESC:Events for Elder Care
REFRESH-INTERVAL;VALUE=DURATION:PT1H
X-Robots-Tag:noindex
X-PUBLISHED-TTL:PT1H
BEGIN:VTIMEZONE
TZID:America/North_Dakota/Center
BEGIN:DAYLIGHT
TZOFFSETFROM:-0600
TZOFFSETTO:-0500
TZNAME:CDT
DTSTART:20220313T080000
END:DAYLIGHT
BEGIN:STANDARD
TZOFFSETFROM:-0500
TZOFFSETTO:-0600
TZNAME:CST
DTSTART:20221106T070000
END:STANDARD
BEGIN:DAYLIGHT
TZOFFSETFROM:-0600
TZOFFSETTO:-0500
TZNAME:CDT
DTSTART:20230312T080000
END:DAYLIGHT
BEGIN:STANDARD
TZOFFSETFROM:-0500
TZOFFSETTO:-0600
TZNAME:CST
DTSTART:20231105T070000
END:STANDARD
BEGIN:DAYLIGHT
TZOFFSETFROM:-0600
TZOFFSETTO:-0500
TZNAME:CDT
DTSTART:20240310T080000
END:DAYLIGHT
BEGIN:STANDARD
TZOFFSETFROM:-0500
TZOFFSETTO:-0600
TZNAME:CST
DTSTART:20241103T070000
END:STANDARD
END:VTIMEZONE
BEGIN:VEVENT
DTSTART;TZID=America/North_Dakota/Center:20230207T070000
DTEND;TZID=America/North_Dakota/Center:20230207T080000
DTSTAMP:20260420T052410
CREATED:20230202T222304Z
LAST-MODIFIED:20230202T222456Z
UID:10000025-1675753200-1675756800@abouteldercare.org
SUMMARY:Go-Globel Meet & Greet
DESCRIPTION:Meet Go Global partners and learn more about our Go Travel Trips for 2023. We will talk about our upcoming planned trips and learn a little bit about what you can expect. \nTo check out our upcoming trips\, visit AboutElderCare.org/GoTravel. \n\nAbout Go-Globel\nSince 1992\, our mission has been to provide authentic\, worry-free\, stress-free European travel adventures that not only inspire and inform but also prepare us to better understand and actively contribute to the world in which we live! \n\nWe are experts in worry and stress-free\, safe\, and authentic travel experiences and adventures\nWe are providers of worldwide travel concierge service\nOur vision is to lead tours and provide services that lead to meaningful\, life-enhancing\, life-changing experiences.\nOur goal is to be known as caring experts and trustworthy providers of value-driven travel services and purveyors of worry-free\, stress-free\, and authentic travel adventures.
URL:https://abouteldercare.org/event/go-globel-meet-greet/
LOCATION:Elder Care\, 1223 Swan Drive\, Bartlesville\, OK\, 74006\, United States
ATTACH;FMTTYPE=image/jpeg:https://abouteldercare.org/wp-content/uploads/2023/02/MeetGreet.jpg
ORGANIZER;CN="Elder Care":MAILTO:info@AboutElderCare.org
END:VEVENT
BEGIN:VEVENT
DTSTART;TZID=America/North_Dakota/Center:20230104T090000
DTEND;TZID=America/North_Dakota/Center:20230104T100000
DTSTAMP:20260420T052410
CREATED:20230113T001848Z
LAST-MODIFIED:20230113T001848Z
UID:10000008-1672822800-1672826400@abouteldercare.org
SUMMARY:Seniors Connect: Seasons of Change
DESCRIPTION:Seniors Connect kicks off its 2023 educational series with a seminar featuring Laura Jensen Bartlesville Community Foundation Executive Director. \nBy 2023 the population of adults 65 and older will be larger than any other age group for the first time in history. Join us as we look at how this might affect the way we work and provide services to our community. \n  \nWednesday\, January 4\, 2023\n3:00 pm – 4:00 pm\nRSVP January 3\, 2023 by calling (918) 336-8500\n  \nThe Bartlesville Community Foundation Executive Director\, Laura Jensen\, joined the Foundation in May of 2017 after six years in the banking industry. Since\, she has led many organization projects and was appointed Executive Director in 2022. Laura holds a primary Bachelor of Science in human nutrition degree with a focus in public health\, a secondary Bachelor of Science degree in gerontology from Kansas State University\, and a master’s degree in business administration from Rogers State University. Locally\, she serves as a volunteer for many organizations\, including the City of Bartlesville Board of Adjustment\, and is a graduate of Leadership Bartlesville Class 27. Laura’s husband is a Data Engineer for Phillips 66\, and they have one daughter.
URL:https://abouteldercare.org/event/seasons-of-change/
LOCATION:OK
ATTACH;FMTTYPE=image/png:https://abouteldercare.org/wp-content/uploads/2022/12/Asset-2@2x.png
END:VEVENT
BEGIN:VEVENT
DTSTART;VALUE=DATE:20230103
DTEND;VALUE=DATE:20230130
DTSTAMP:20260420T052410
CREATED:20230113T002320Z
LAST-MODIFIED:20230113T011106Z
UID:10000009-1672768800-1675015199@abouteldercare.org
SUMMARY:Jerry Poppenhouse Art on Display
DESCRIPTION:The Jerry Poppenhouse collection of photographs on canvas art was donated to Elder Care to be used to benefit our programs. \nNine of the 73 pieces on display will be included in a 2023 online auction. All proceeds benefit Elder Care. Following the close of the in-person exhibit at the BCC on January 29\, 2023\, the online auction will continue until February 14\, 2023. No in-person bidding. \nThis fundraiser is made possible through the generous support of the Bartlesville Community Center and Jerry Poppenhouse. \n\n\n\nOnline Auction \n\nAbout Jerry Poppenhouse\nPoppenhouse worked as a creative photo designer for Phillips Petroleum Co. in Bartlesville. His work for Phillips has taken him worldwide and brought him face-to-face with international celebrities. \nHe has observed tribal rituals of African natives and battled minus-85-degree temperatures in Alaska. He’s been buffeted by 60-foot waves in the North Sea and blinded by the darkness of the Amazon jungle in Peru. All for the sake of visual recording. \nAnd he has photographed Luciano Pavarotti\, Walt Disney\, Robert Redford\, and a wealth of intriguing faces. \n\nHe has received the Chicago Award of Excellence\, the Cine Golden Eagle\, the United States Industrial Silver Screen Award\, the American Advertising Federation Award\, the Graphex Proclamation in Photography\, the Addy Award for Excellence in Advertising\, and the Oklahoma Film and Television Producers Association Gold Award.
URL:https://abouteldercare.org/event/jerry-poppenhouse-art-on-display/
LOCATION:Bartlesville Commuity Center\, 300 SE Adams Blvd\, Bartlesville\, Oklahoma\, 74003
ATTACH;FMTTYPE=image/jpeg:https://abouteldercare.org/wp-content/uploads/2023/01/Jerry-Reception-Crowd-2-FINAL-IMG_5663-scaled-e1673550649759.jpg
ORGANIZER;CN="Elder Care":MAILTO:info@AboutElderCare.org
END:VEVENT
END:VCALENDAR