BEGIN:VCALENDAR
VERSION:2.0
PRODID:-//Elder Care - ECPv6.15.20//NONSGML v1.0//EN
CALSCALE:GREGORIAN
METHOD:PUBLISH
X-WR-CALNAME:Elder Care
X-ORIGINAL-URL:https://abouteldercare.org
X-WR-CALDESC:Events for Elder Care
REFRESH-INTERVAL;VALUE=DURATION:PT1H
X-Robots-Tag:noindex
X-PUBLISHED-TTL:PT1H
BEGIN:VTIMEZONE
TZID:America/North_Dakota/Center
BEGIN:DAYLIGHT
TZOFFSETFROM:-0600
TZOFFSETTO:-0500
TZNAME:CDT
DTSTART:20250309T080000
END:DAYLIGHT
BEGIN:STANDARD
TZOFFSETFROM:-0500
TZOFFSETTO:-0600
TZNAME:CST
DTSTART:20251102T070000
END:STANDARD
BEGIN:DAYLIGHT
TZOFFSETFROM:-0600
TZOFFSETTO:-0500
TZNAME:CDT
DTSTART:20260308T080000
END:DAYLIGHT
BEGIN:STANDARD
TZOFFSETFROM:-0500
TZOFFSETTO:-0600
TZNAME:CST
DTSTART:20261101T070000
END:STANDARD
BEGIN:DAYLIGHT
TZOFFSETFROM:-0600
TZOFFSETTO:-0500
TZNAME:CDT
DTSTART:20270314T080000
END:DAYLIGHT
BEGIN:STANDARD
TZOFFSETFROM:-0500
TZOFFSETTO:-0600
TZNAME:CST
DTSTART:20271107T070000
END:STANDARD
END:VTIMEZONE
BEGIN:VEVENT
DTSTART;TZID=America/North_Dakota/Center:20260122T090000
DTEND;TZID=America/North_Dakota/Center:20260122T100000
DTSTAMP:20260420T094649
CREATED:20251231T151639Z
LAST-MODIFIED:20251231T151639Z
UID:10000500-1769072400-1769076000@abouteldercare.org
SUMMARY:Tai Chi
DESCRIPTION:Find your balance and calm your mind with Tai Chi\, a gentle practice that improves strength\, flexibility\, and relaxation. Join instructor Dixie Squires every Thursday at 9:00 am for this restorative class. Cost is $5 per person. Call 918-336-8500 for schedule and registration.
URL:https://abouteldercare.org/event/tai-chi-19/
LOCATION:Elder Care\, 1223 Swan Drive\, Bartlesville\, OK\, 74006\, United States
ORGANIZER;CN="Elder Care":MAILTO:info@AboutElderCare.org
END:VEVENT
END:VCALENDAR