BEGIN:VCALENDAR
VERSION:2.0
PRODID:-//Elder Care - ECPv6.15.20//NONSGML v1.0//EN
CALSCALE:GREGORIAN
METHOD:PUBLISH
X-ORIGINAL-URL:https://abouteldercare.org
X-WR-CALDESC:Events for Elder Care
REFRESH-INTERVAL;VALUE=DURATION:PT1H
X-Robots-Tag:noindex
X-PUBLISHED-TTL:PT1H
BEGIN:VTIMEZONE
TZID:America/North_Dakota/Center
BEGIN:DAYLIGHT
TZOFFSETFROM:-0600
TZOFFSETTO:-0500
TZNAME:CDT
DTSTART:20250309T080000
END:DAYLIGHT
BEGIN:STANDARD
TZOFFSETFROM:-0500
TZOFFSETTO:-0600
TZNAME:CST
DTSTART:20251102T070000
END:STANDARD
BEGIN:DAYLIGHT
TZOFFSETFROM:-0600
TZOFFSETTO:-0500
TZNAME:CDT
DTSTART:20260308T080000
END:DAYLIGHT
BEGIN:STANDARD
TZOFFSETFROM:-0500
TZOFFSETTO:-0600
TZNAME:CST
DTSTART:20261101T070000
END:STANDARD
BEGIN:DAYLIGHT
TZOFFSETFROM:-0600
TZOFFSETTO:-0500
TZNAME:CDT
DTSTART:20270314T080000
END:DAYLIGHT
BEGIN:STANDARD
TZOFFSETFROM:-0500
TZOFFSETTO:-0600
TZNAME:CST
DTSTART:20271107T070000
END:STANDARD
END:VTIMEZONE
BEGIN:VEVENT
DTSTART;TZID=America/North_Dakota/Center:20260120T100000
DTEND;TZID=America/North_Dakota/Center:20260120T110000
DTSTAMP:20260420T082331
CREATED:20260102T154041Z
LAST-MODIFIED:20260102T154041Z
UID:10000554-1768903200-1768906800@abouteldercare.org
SUMMARY:Caregiver Support Group
DESCRIPTION:This week’s topic will be: Feeling Frozen? Tips to Fight the Mid-Winter Doldrums with Dr. Larry Cowan.\n \nJoin us each week for a supportive and welcoming caregiver group at Elder Care. Whether you’re caring for a spouse\, parent\, or loved one\, this free group offers a safe space to share experiences\, learn practical tips\, and find encouragement from others who understand the challenges of caregiving. Led by trained facilitators\, the group meets weekly and is open to all caregivers in the community. You’re not alone. Come connect\, recharge\, and find the support you need. \nFor meeting times and more information\, call Elder Care at 918-336-8500.
URL:https://abouteldercare.org/event/caregiver-support-group-43/
LOCATION:Elder Care\, 1223 Swan Drive\, Bartlesville\, OK\, 74006\, United States
ORGANIZER;CN="Elder Care":MAILTO:info@AboutElderCare.org
END:VEVENT
BEGIN:VEVENT
DTSTART;TZID=America/North_Dakota/Center:20260120T131500
DTEND;TZID=America/North_Dakota/Center:20260120T143000
DTSTAMP:20260420T082331
CREATED:20251230T144028Z
LAST-MODIFIED:20251230T144028Z
UID:10000437-1768914900-1768919400@abouteldercare.org
SUMMARY:Tech Series with Donte: Communication with Iphone
DESCRIPTION:Tech Series in January with Donte  |  $5 per person | 1:15pm – 2:30pm\nTechnology Training is a beginner-friendly digital skills series designed to help individuals navigate today’s technology with confidence. Using a patient and encouraging approach\, the program covers smartphones\, tablets\, and computers while focusing on communication\, safety\, and accessibility. Participants will learn practical skills such as adjusting device settings\, staying connected with others\, and using technology in ways that support independence and everyday life. This sustainable learning series is ideal for those looking to build confidence and comfort with their personal devices.\nJanuary Sessions Include:\nJanuary 6\, 2026 – iPhone Basics – http://weblink.donorperfect.com/Techseriesjan6\nJanuary 20\, 2026 – Communication with iPhone – http://weblink.donorperfect.com/techseriesjan20\nJanuary 27\, 2026 – Photos and Apps with iPhone – http://weblink.donorperfect.com/techseriesjan27
URL:https://abouteldercare.org/event/tech-series-with-donte-communication-with-iphone/
LOCATION:Elder Care\, 1223 Swan Drive\, Bartlesville\, OK\, 74006\, United States
END:VEVENT
END:VCALENDAR